BEGIN:VCALENDAR
VERSION:2.0
PRODID:-//Caughlin Ranch Home Owners&#039; Association - ECPv6.15.20//NONSGML v1.0//EN
CALSCALE:GREGORIAN
METHOD:PUBLISH
X-ORIGINAL-URL:https://caughlinhoa.com
X-WR-CALDESC:Events for Caughlin Ranch Home Owners&#039; Association
REFRESH-INTERVAL;VALUE=DURATION:PT1H
X-Robots-Tag:noindex
X-PUBLISHED-TTL:PT1H
BEGIN:VTIMEZONE
TZID:America/Los_Angeles
BEGIN:DAYLIGHT
TZOFFSETFROM:-0800
TZOFFSETTO:-0700
TZNAME:PDT
DTSTART:20250309T100000
END:DAYLIGHT
BEGIN:STANDARD
TZOFFSETFROM:-0700
TZOFFSETTO:-0800
TZNAME:PST
DTSTART:20251102T090000
END:STANDARD
BEGIN:DAYLIGHT
TZOFFSETFROM:-0800
TZOFFSETTO:-0700
TZNAME:PDT
DTSTART:20260308T100000
END:DAYLIGHT
BEGIN:STANDARD
TZOFFSETFROM:-0700
TZOFFSETTO:-0800
TZNAME:PST
DTSTART:20261101T090000
END:STANDARD
BEGIN:DAYLIGHT
TZOFFSETFROM:-0800
TZOFFSETTO:-0700
TZNAME:PDT
DTSTART:20270314T100000
END:DAYLIGHT
BEGIN:STANDARD
TZOFFSETFROM:-0700
TZOFFSETTO:-0800
TZNAME:PST
DTSTART:20271107T090000
END:STANDARD
END:VTIMEZONE
BEGIN:VEVENT
DTSTART;TZID=America/Los_Angeles:20260126T160000
DTEND;TZID=America/Los_Angeles:20260126T180000
DTSTAMP:20260420T200037
CREATED:20260114T204743Z
LAST-MODIFIED:20260114T211923Z
UID:5225-1769443200-1769450400@caughlinhoa.com
SUMMARY:Workshop - Review January 28\, 2026 Board Meeting Agenda
DESCRIPTION:Workshop – Review of January 28\, 2026\, Board Meeting Agenda to be held on  \nMonday\, January 26\, 2026\, beginning at 4:00 PM  \n If joining remotely\, please join the Workshop from your computer\, tablet\, or smartphone: \nhttps://global.gotomeeting.com/join/235350861 \nYou can also dial in using your phone. United States: +1 (646) 749-3122   Access Code: 235-350-861
URL:https://caughlinhoa.com/event/workshop-review-january-28-2026-board-meeting-agenda/
END:VEVENT
END:VCALENDAR