BEGIN:VCALENDAR
VERSION:2.0
PRODID:-//Caughlin Ranch Home Owners&#039; Association - ECPv6.15.20//NONSGML v1.0//EN
CALSCALE:GREGORIAN
METHOD:PUBLISH
X-WR-CALNAME:Caughlin Ranch Home Owners&#039; Association
X-ORIGINAL-URL:https://caughlinhoa.com
X-WR-CALDESC:Events for Caughlin Ranch Home Owners&#039; Association
REFRESH-INTERVAL;VALUE=DURATION:PT1H
X-Robots-Tag:noindex
X-PUBLISHED-TTL:PT1H
BEGIN:VTIMEZONE
TZID:America/Los_Angeles
BEGIN:DAYLIGHT
TZOFFSETFROM:-0800
TZOFFSETTO:-0700
TZNAME:PDT
DTSTART:20250309T100000
END:DAYLIGHT
BEGIN:STANDARD
TZOFFSETFROM:-0700
TZOFFSETTO:-0800
TZNAME:PST
DTSTART:20251102T090000
END:STANDARD
BEGIN:DAYLIGHT
TZOFFSETFROM:-0800
TZOFFSETTO:-0700
TZNAME:PDT
DTSTART:20260308T100000
END:DAYLIGHT
BEGIN:STANDARD
TZOFFSETFROM:-0700
TZOFFSETTO:-0800
TZNAME:PST
DTSTART:20261101T090000
END:STANDARD
BEGIN:DAYLIGHT
TZOFFSETFROM:-0800
TZOFFSETTO:-0700
TZNAME:PDT
DTSTART:20270314T100000
END:DAYLIGHT
BEGIN:STANDARD
TZOFFSETFROM:-0700
TZOFFSETTO:-0800
TZNAME:PST
DTSTART:20271107T090000
END:STANDARD
END:VTIMEZONE
BEGIN:VEVENT
DTSTART;TZID=America/Los_Angeles:20260422T130000
DTEND;TZID=America/Los_Angeles:20260422T140000
DTSTAMP:20260420T155615
CREATED:20260414T204425Z
LAST-MODIFIED:20260414T204425Z
UID:5305-1776862800-1776866400@caughlinhoa.com
SUMMARY:Strategic Planning Meeting 4/22/2026 1PM
DESCRIPTION:Caughlin Ranch HOA  – Strategic Planning Meeting \n1070 Caughlin Crossing \nReno\, NV 89519 \n 
URL:https://caughlinhoa.com/event/strategic-planning-meeting-4-22-2026-1pm/
END:VEVENT
END:VCALENDAR