BEGIN:VCALENDAR
VERSION:2.0
PRODID:-//Caughlin Ranch Home Owners&#039; Association - ECPv6.15.20//NONSGML v1.0//EN
CALSCALE:GREGORIAN
METHOD:PUBLISH
X-ORIGINAL-URL:https://caughlinhoa.com
X-WR-CALDESC:Events for Caughlin Ranch Home Owners&#039; Association
REFRESH-INTERVAL;VALUE=DURATION:PT1H
X-Robots-Tag:noindex
X-PUBLISHED-TTL:PT1H
BEGIN:VTIMEZONE
TZID:America/Los_Angeles
BEGIN:DAYLIGHT
TZOFFSETFROM:-0800
TZOFFSETTO:-0700
TZNAME:PDT
DTSTART:20250309T100000
END:DAYLIGHT
BEGIN:STANDARD
TZOFFSETFROM:-0700
TZOFFSETTO:-0800
TZNAME:PST
DTSTART:20251102T090000
END:STANDARD
BEGIN:DAYLIGHT
TZOFFSETFROM:-0800
TZOFFSETTO:-0700
TZNAME:PDT
DTSTART:20260308T100000
END:DAYLIGHT
BEGIN:STANDARD
TZOFFSETFROM:-0700
TZOFFSETTO:-0800
TZNAME:PST
DTSTART:20261101T090000
END:STANDARD
BEGIN:DAYLIGHT
TZOFFSETFROM:-0800
TZOFFSETTO:-0700
TZNAME:PDT
DTSTART:20270314T100000
END:DAYLIGHT
BEGIN:STANDARD
TZOFFSETFROM:-0700
TZOFFSETTO:-0800
TZNAME:PST
DTSTART:20271107T090000
END:STANDARD
END:VTIMEZONE
BEGIN:VEVENT
DTSTART;TZID=America/Los_Angeles:20260813T113000
DTEND;TZID=America/Los_Angeles:20260813T130000
DTSTAMP:20260420T195321
CREATED:20260414T210920Z
LAST-MODIFIED:20260414T210920Z
UID:5329-1786620600-1786626000@caughlinhoa.com
SUMMARY:ACC Meeting
DESCRIPTION:
URL:https://caughlinhoa.com/event/acc-meeting-14/
END:VEVENT
BEGIN:VEVENT
DTSTART;TZID=America/Los_Angeles:20260820T160000
DTEND;TZID=America/Los_Angeles:20260820T170000
DTSTAMP:20260420T195321
CREATED:20260414T214820Z
LAST-MODIFIED:20260414T214820Z
UID:5364-1787241600-1787245200@caughlinhoa.com
SUMMARY:2027 Budget Review Workshop with Finance & Budget Committee 4p.m.
DESCRIPTION:2027 Budget Review Workshop with Finance & Budget Committee 4:00 p.m. \n1070 Caughlin Crossing \nReno NV 89519
URL:https://caughlinhoa.com/event/2027-budget-review-workshop-with-finance-budget-committee-4p-m/
CATEGORIES:F&B Meeting
END:VEVENT
BEGIN:VEVENT
DTSTART;TZID=America/Los_Angeles:20260827T113000
DTEND;TZID=America/Los_Angeles:20260827T130000
DTSTAMP:20260420T195321
CREATED:20260414T210955Z
LAST-MODIFIED:20260414T210955Z
UID:5331-1787830200-1787835600@caughlinhoa.com
SUMMARY:ACC Meeting
DESCRIPTION:
URL:https://caughlinhoa.com/event/acc-meeting-15/
END:VEVENT
END:VCALENDAR